BEGIN:VCALENDAR
VERSION:2.0
PRODID:http://www.porsche-club-canberra.org.au
BEGIN:VEVENT
UID:3F4E9C993A26B95CC12580B4003DC12F
CATEGORIES:Porsche Club Canberra
SUMMARY:Gulsons Track Day at Wakefield Park
DESCRIPTION:Join Gulsons Canberra Porsche Centre at a track day at Wakefie
 ld Park\n\nJoin the local Canberra Porsche Dealership at Wakefield Park, f
 or the opportunity to drive your car how it should be driven…. without the
  risk of being caught!!!\n\nIt is also a GREAT opportunity to show your fa
 mily and friends how AWESOME your car is, as passengers are allowed in you
 r vehicle. (with the exception of the timed session at lunchtime)\n\nOn pr
 evious days we have had a number of ‘no shows’and as we limit the number o
 f cars this has resulted in people who have wanted to attend, missing out.
 \n\nAs there are a limited numbers of vehicles allowed on the track...... 
 please confirm your place now by way of payment!!!\n\nCost is $220 for tho
 se bringing a vehicle, including lunch. You are more than welcome to bring
  guests and cost is $30 for lunch\n\nAs it is catered on a per head basis 
 we do need to confirm number of guests for lunch a few days before the eve
 nt\n\nBank deposit or credit card authority attached, or feel free to call
  in, have a coffee and cash is fine too.\n\nFriends with their own cars ar
 e more than welcome as well.\n\nNote this is not a Porsche Club Canberra e
 vent and you need to complete the attached form and provide to Gulsons bef
 ore the event to secure a position on this day. (See attached forms for co
 ntact and RSVP details)\n\nInvitation and FAQs\n\nBank Deposit Form\n\n \n
 \n\n\nhttp://www.porsche-club-canberra.org.au/PorscheClubs/pc_canberra/pc_
 main.nsf/web/3F4E9C993A26B95CC12580B4003DC12F
DTSTART;VALUE=DATE:20170321
DTSTAMP:20190315T090632Z
LOCATION:Wakefield Park (Goulburn)
END:VEVENT
END:VCALENDAR
