BEGIN:VCALENDAR
VERSION:2.0
PRODID:http://www.porsche-club-canberra.org.au
BEGIN:VEVENT
UID:4F4B3B9C33F7A9EDC12580B4003CC0C3
CATEGORIES:Porsche Club Canberra
SUMMARY:Single day family rally and BBQ 
DESCRIPTION:The annual club rally in October is the marquee event for the 
 club, a weekend away where we rural NSW, enjoy driving some interesting ba
 ck roads and savour a delicious meal to discuss the day’s adventure. Given
  how far away October is, we propose to whet your appetites with a mini ra
 lly in March run in and around Canberra, as a single day event including a
  BBQ lunch.\n\n \n\nThis family friendly event will be a lot of fun as we 
 explore some parts of our region that we may not know as well as we think 
 and our powers of observation are tested.\n\n \n\nIf you would like to kno
 w more about this event please contact Peter Woods at PandAWoods@grapevine
 .com.au, for more details regarding this event will come out in coming wee
 ks:\n\n \n\nDate: Sunday 19 March\n\nTime: 9am\n\nAddress: Murrumbateman (
 At the park off the Barton Highway)\n\n\n\nhttp://www.porsche-club-canberr
 a.org.au/PorscheClubs/pc_canberra/pc_main.nsf/web/4F4B3B9C33F7A9EDC12580B4
 003CC0C3
DTSTART;VALUE=DATE:20170319
DTSTAMP:20190315T090632Z
LOCATION:Single day family rally and BBQ
END:VEVENT
END:VCALENDAR
