BEGIN:VCALENDAR
VERSION:2.0
PRODID:http://www.porsche-club-canberra.org.au
BEGIN:VEVENT
UID:8A49F96FA1E34B6DC12580C500445547
CATEGORIES:Porsche Club Canberra
SUMMARY:Wheels 2017
DESCRIPTION:Treasury Car Park off Commonwealth Ave, Canberra from 10am to 
 3pm.\n\nWheels 2017 is a multi car display organised by the Council of ACT
  Motor Clubs\n\nSee the biggest display in the ACT of veteran, vintage, hi
 storic, classic, exotic and modified cars, commercials and motor cycles.\n
 \nShannnons Wheels is supported by the 75 affiliated clubs of the Council 
 of ACT Motor Clubs.  \n\nCome for a walk down motoring memory lane and cel
 ebrate more than 100 years of the Ford Motor Company in Australia.\n\nEnte
 r via Gate 2 if you are going to display your Porsche at the show.\n\nLink
  to event URL\n\nWheels_2017_flyer.doc\n\n\n\nhttp://www.porsche-club-canb
 erra.org.au/PorscheClubs/pc_canberra/pc_main.nsf/web/8A49F96FA1E34B6DC1258
 0C500445547
DTSTART;VALUE=DATE:20170312
DTSTAMP:20190315T090632Z
END:VEVENT
END:VCALENDAR
