BEGIN:VCALENDAR
VERSION:2.0
PRODID:http://www.porsche-club-canberra.org.au
BEGIN:VEVENT
UID:95FCA8E00948584AC12580B4003E020D
CATEGORIES:Porsche Club Canberra
SUMMARY:Coffee and Porsches (8am at Fox and Bow Cafe Farrer Shops)
DESCRIPTION:Come along for the a coffee and chat followed by an casual cou
 ntry drive.\n\nThe Club meets informally on the first Saturday of each mon
 th for a friendly chat over a coffee to share news and activities.  \n\nWe
  gather at 8am to to enjoy some caffeine with the coffee and chat over by 
 around 9am.\n\nA short informal drive will be organised afterwards led by 
 a committee member to explore some of Canberra's back roads and the drive 
 portion will normally be finished by 10:30am.\n\n\n\nhttp://www.porsche-cl
 ub-canberra.org.au/PorscheClubs/pc_canberra/pc_main.nsf/web/95FCA8E0094858
 4AC12580B4003E020D
DTSTART;VALUE=DATE:20170401
DTSTAMP:20190315T090632Z
LOCATION:Fox and Bow Cafe at Farrer Shops (Farrer Place, Farrer)
END:VEVENT
END:VCALENDAR
