BEGIN:VCALENDAR
VERSION:2.0
PRODID:http://www.porsche-club-canberra.org.au
BEGIN:VEVENT
UID:B7DDB015CDD2F2FEC12580B4003FC023
CATEGORIES:Porsche Club Canberra
SUMMARY:Alpine Drive
DESCRIPTION:Come enjoy NSW's scenic alpine roads\n\nThis will be a full da
 y event departing in the morning from Gundagai and travelling south via so
 me beautiful country back roads and will finish at Cooma at around 4pm.\n\
 nIf interested members can stay in Cooma Saturday night and take part in t
 he Cooma Car Clubs Hillclimb event the next day.\n\n\n\nhttp://www.porsche
 -club-canberra.org.au/PorscheClubs/pc_canberra/pc_main.nsf/web/B7DDB015CDD
 2F2FEC12580B4003FC023
DTSTART;VALUE=DATE:20170520
DTSTAMP:20190315T090632Z
LOCATION:Dog on the Tuckerbox (Gundagai)
END:VEVENT
END:VCALENDAR
