BEGIN:VCALENDAR
VERSION:2.0
PRODID:http://www.porsche-club-canberra.org.au
BEGIN:VEVENT
UID:A0B9F896055AE529C12584D3007DBDC7
CATEGORIES:Porsche Club Canberra
SUMMARY:January Club Drive - Supporting Kings Hwy Communities
DESCRIPTION:On Sunday 12 January the club is showing its support to the fi
 re-affected communities of Bungendore and Braidwood.\n\nBoth communities h
 ave felt the impact of dwindling traffic between Canberra and the South Co
 ast over this holiday season.\n\nTo start the year off, for its first driv
 e the club will leave Gold Creek at 9am, travelling to Bungendore for coff
 ee at the Big Green Cup Cafe.  We'll then travel on to Bungendore, and som
 e may wish to stay for lunch.\n\nThis is your opportunity to join the club
  in supporting our regional neighbours.\n\nYou are also encouraged to cons
 ider making a donation to one of the bushfire appeals.\n\n \n\nNo RSVP is 
 required - just turn up.  Note the event will still run even if there is s
 ome smoke affecting Canberra.\n\nShort drive option:  The full route is ar
 ound 200ks return.  A shorter drive option is to Bungendore and return.\n\
 n \n\nNote later start time than usual: meet at the carpark between 8.30 a
 nd 8.45 for a 9am departure.\n\n \n\n \n\n\n\nhttp://www.porsche-club-canb
 erra.org.au/PorscheClubs/pc_canberra/pc_main.nsf/web/A0B9F896055AE529C1258
 4D3007DBDC7
DTSTART;VALUE=DATE:20200112
DTSTAMP:20200110T031347Z
END:VEVENT
BEGIN:VEVENT
UID:0AA79E5DCAFE7D44C12584CC00799EFE
CATEGORIES:Porsche Club Canberra
SUMMARY:February Club Drive - Paddy&#039;s River Road
DESCRIPTION:Kick off 2020 with a drive out to Paddy's River Road\n\n\n\nht
 tp://www.porsche-club-canberra.org.au/PorscheClubs/pc_canberra/pc_main.nsf
 /web/0AA79E5DCAFE7D44C12584CC00799EFE
DTSTART:20200207T210000Z
DTSTAMP:20191211T025812Z
LOCATION:Fox and Bow, Farrer Shops
END:VEVENT
BEGIN:VEVENT
UID:1E40E1C8AE4B4682C12584D3007DF4FA
CATEGORIES:Porsche Club Canberra
SUMMARY:Club welcome to 2020 - Lunch in the Park
DESCRIPTION:Time - Lunchtime - 12.00 till 3.00pm\n\nLocation - BBQ area ne
 ar 69 Mortimer Lewis Drive, Tuggeranong, adjacent Sea Scouts\n\nParking - 
 Adjacent BBQ area\n\nFood - Pizzas (including vegetarian options), cold pl
 atters of meat and salad and fresh bread\n\nDrink - Soft drink and bottled
  water will be supplied\n\nPCC members to bring own fold out chairs and pi
 cnic mat if required.\n\n\n\nhttp://www.porsche-club-canberra.org.au/Porsc
 heClubs/pc_canberra/pc_main.nsf/web/1E40E1C8AE4B4682C12584D3007DF4FA
DTSTART:20200222T010000Z
DTSTAMP:20200215T024934Z
LOCATION:Mortimer Lewis Drive BBQ area, Greenway, Tuggeranong
END:VEVENT
BEGIN:VEVENT
UID:18EF2EA9BE17D406C12584D4000B81B1
CATEGORIES:Porsche Club Canberra
SUMMARY:Shannons - Wheels 2020
DESCRIPTION:The first Sunday in March is the annual Wheels car show, spons
 ored by Shannons Insurance, and organised on by the Council of ACT Motor C
 lubs.  As in other years, the club encourages members to bring their car/s
  along to display on the day. \n\nDetails for the day, including a map of 
 the venue, can be found here.\n\nNote if you are bringing your car to disp
 lay, you will need to aim to arrive between 7am and 9am.  Vehicle movement
  will not be permitted from 10am to 1pm.  The public opening hours will be
  10am to 3pm, and you are encouraged to leave your car for the full day if
  possible.\n\n\n\nhttp://www.porsche-club-canberra.org.au/PorscheClubs/pc_
 canberra/pc_main.nsf/web/18EF2EA9BE17D406C12584D4000B81B1
DTSTART;VALUE=DATE:20200301
DTSTAMP:20200219T070713Z
LOCATION:Queanbeyan showground
END:VEVENT
BEGIN:VEVENT
UID:18DD6877B7D20998C12584CC0079054D
CATEGORIES:Porsche Club Canberra
SUMMARY:March Club Drive to Taralga
DESCRIPTION:Destination:\n\nTaralga Hotel. Details here \n\nThe Plan:\n\nT
 his drive will start at The Baker at Sutton and traverse some great, spars
 ely traffic, classic ACT/NSW “B roads”. It will have a couple of waypoints
  to regroup with a short toilet break just over half way to help ease the 
 pressure of the morning coffee.  It will end at the Taralga Hotel for a gr
 eat pub lunch. \n\nI have planned a short loop ending at Some Cafe in Coll
 ector for those who don’t have the time for the main drive.\n\nTimings:\n\
 nDrive day- Sunday 08 March 2020.\n\n0800h - Meet at The Baker at Sutton.\
 n\n0900h - Depart. \n\nLocations:\n\nThe Baker at Sutton\n\n1 Victoria St,
  Sutton NSW 2620\n\n(02) 6230 3980\n\n \n\nThe Taralga Hotel\n\n24 Orchard
  St, Taralga NSW 2580\n\n(02) 4840 2007\n\n \n\nSome Cafe\n\n5/7 Murray St
 , Collector NSW 2581\n\n \n\nAdmin points:\n\nAn email will be distributed
  to members with more details, including registration requirements (Billy 
 needs numbers for the lunch). \n\nOrganisers: Billy Moore and Kerrie Culle
 n\n\n\n\nhttp://www.porsche-club-canberra.org.au/PorscheClubs/pc_canberra/
 pc_main.nsf/web/18DD6877B7D20998C12584CC0079054D
DTSTART:20200307T210000Z
DTSTAMP:20200222T230453Z
LOCATION:Start at The Baker, Sutton
END:VEVENT
BEGIN:VEVENT
UID:4752535A4282426DC12584D4000C3D3D
CATEGORIES:Porsche Club Canberra
SUMMARY:Gulson&#039;s Track Day - Wakefield Park
DESCRIPTION:Gulson's Porsche Centre Canberra are again hosting a track day
  at Wakefield Park, held on the Canberra Day ACT holiday.\n\nEntry Fees \n
 \nEarly Bird                     $250            (inclusive of lunch)\n\nA
 dditional Driver          $200            (sharing an entered car - inclus
 ive of lunch)\n\nGuest                            $30              (please
  advise prior to 2nd March if possible)\n\nLate Entry                     
 $280            After the 2nd March or on the day\n\n \n\nMore details can
  be found here\n\nNote you will need either CAMS licence (competion licens
 e leverl 2S - for about $143), which can be applied for online, or a Wakef
 ield pass annual or day license (a day license is about $35 and can be pur
 chased online or at the venue on the day).\n\nEvent organisers: Gulsons' C
 anberra\n\n\n\nhttp://www.porsche-club-canberra.org.au/PorscheClubs/pc_can
 berra/pc_main.nsf/web/4752535A4282426DC12584D4000C3D3D
DTSTART;VALUE=DATE:20200309
DTSTAMP:20200124T233607Z
LOCATION:Wakefield Park, Goulburn
END:VEVENT
BEGIN:VEVENT
UID:9B272591D800D33FC12584D4000B5C67
CATEGORIES:Porsche Club Canberra
SUMMARY:Auto Italia
DESCRIPTION:Sunday is Auto Italia.  A club drive may be conducted, finishi
 ng at the Auto Italia venue - details TBA.\n\n\n\nhttp://www.porsche-club-
 canberra.org.au/PorscheClubs/pc_canberra/pc_main.nsf/web/9B272591D800D33FC
 12584D4000B5C67
DTSTART;VALUE=DATE:20200329
DTSTAMP:20191218T020405Z
END:VEVENT
BEGIN:VEVENT
UID:8472551FF0980875C12584CC0079EFCB
CATEGORIES:Porsche Club Canberra
SUMMARY:April Club Drive - Tarago
DESCRIPTION:For April the club will be loading up the convoy and heading o
 ut to the Loaded Dog Hotel, Tarago\n\nOrganisers: Alan Subkey and Annette 
 Forster\n\n\n\nhttp://www.porsche-club-canberra.org.au/PorscheClubs/pc_can
 berra/pc_main.nsf/web/8472551FF0980875C12584CC0079EFCB
DTSTART:20200403T210000Z
DTSTAMP:20191211T025951Z
LOCATION:Meet at the Fox and Bow, Farrer Shops
END:VEVENT
BEGIN:VEVENT
UID:F228E02D604E16B1C12584F3007CD979
CATEGORIES:Porsche Club Canberra
SUMMARY:Porsche Club SA - Charity Golf Day
DESCRIPTION:Porsche Club SA has invited members of all Australian Porsche 
 clubs to a charity golf day.  Note this is timing to coincide with the SA 
 sprints event at "The Bend" at Easter, if anyone is planning to attend.\n\
 nFor more information see link at the right.\n\n\n\nhttp://www.porsche-clu
 b-canberra.org.au/PorscheClubs/pc_canberra/pc_main.nsf/web/F228E02D604E16B
 1C12584F3007CD979
DTSTART;VALUE=DATE:20200409
DTSTAMP:20200118T231154Z
END:VEVENT
BEGIN:VEVENT
UID:A2E939A55D0B7AFBC12584D3007E1349
CATEGORIES:Porsche Club Canberra
SUMMARY:Wheels at Wamboin
DESCRIPTION:Club drive to Wheels at Wamboin - start details TBA\n\n\n\nhtt
 p://www.porsche-club-canberra.org.au/PorscheClubs/pc_canberra/pc_main.nsf/
 web/A2E939A55D0B7AFBC12584D3007E1349
DTSTART;VALUE=DATE:20200418
DTSTAMP:20191217T225704Z
END:VEVENT
BEGIN:VEVENT
UID:9D789A52009E49E9C12584CC007A6D55
CATEGORIES:Porsche Club Canberra
SUMMARY:May Club Drive - Tumut
DESCRIPTION:A big drive for May - the club will be heading to the Falling 
 Leaf Festival in Tumut.  Start to be arranged from Cooma (optional start i
 n Canberra TBA).\n\nOrganiser: Alex Ihasz\n\n\n\nhttp://www.porsche-club-c
 anberra.org.au/PorscheClubs/pc_canberra/pc_main.nsf/web/9D789A52009E49E9C1
 2584CC007A6D55
DTSTART;VALUE=DATE:20200502
DTSTAMP:20191211T030107Z
LOCATION:Start in Cooma
END:VEVENT
BEGIN:VEVENT
UID:C8F27A799C06A5F0C125851900103195
CATEGORIES:Porsche Club Canberra
SUMMARY:Yass Valley Show & Shine - Saturday 9 May
DESCRIPTION:Communities across NSW are still being affected by the devasta
 ting fire storms that ripped through the state and will continue to be for
  the foreseeable future.Thats why the The Rotaract Club of Yass Valley has
  decided to hold the 'Rotaract Fair Day' to raise much needed funds for th
 e NSW South Coast, with 100% of funds raised going to the RFS and back int
 o the South Coast community.The 'Rotaract Fair Day' will include a car sho
 w with car/bike clubs from all over NSW/ACT, a market day &amp; live music
 .The exact location will be announced as soon as possible, along with a fu
 ll list of participating car/bike clubs.\n\nMore information can be found 
 here\n\n\n\nhttp://www.porsche-club-canberra.org.au/PorscheClubs/pc_canber
 ra/pc_main.nsf/web/C8F27A799C06A5F0C125851900103195
DTSTART;VALUE=DATE:20200509
DTSTAMP:20200225T025652Z
LOCATION:Yass NSW - Exact location to be advised
END:VEVENT
BEGIN:VEVENT
UID:F13E8E17FEA876DEC12584D3007E3EC3
CATEGORIES:Porsche Club Canberra
SUMMARY:Mid Week Drive
DESCRIPTION:As started in 2019, the club will look to offer mid-week group
  drives for those able to take a few hours out on a Wednesday.  \n\nStart 
 details TBC.\n\nOrganiser: Ray Turner\n\n\n\nhttp://www.porsche-club-canbe
 rra.org.au/PorscheClubs/pc_canberra/pc_main.nsf/web/F13E8E17FEA876DEC12584
 D3007E3EC3
DTSTART;VALUE=DATE:20200513
DTSTAMP:20191217T225856Z
END:VEVENT
BEGIN:VEVENT
UID:31AA2A4B81D5FF30C12584D4000C7F68
CATEGORIES:Porsche Club Canberra
SUMMARY:Sportscars Together Day
DESCRIPTION:Porsche Centre Canberra are again hosting a Sportscar Together
  Day, possibly to coincide with a launch event for the new 911 Turbo.\n\nS
 tay tuned for further details!\n\n\n\nhttp://www.porsche-club-canberra.org
 .au/PorscheClubs/pc_canberra/pc_main.nsf/web/31AA2A4B81D5FF30C12584D4000C7
 F68
DTSTART;VALUE=DATE:20200607
DTSTAMP:20191218T021630Z
LOCATION:TBA
END:VEVENT
BEGIN:VEVENT
UID:E8FB7591C2F8ECE1C12584CC007AD095
CATEGORIES:Porsche Club Canberra
SUMMARY:June Club Drive - Weekend at Orange
DESCRIPTION:The club is making a weekend of it in June, with a winery driv
 e out to Orange, with the option of an overnight stay and return to Canber
 ra on Sunday.\n\nOrganisers: Alan Subkey &amp; Annette Forster\n\n\n\nhttp
 ://www.porsche-club-canberra.org.au/PorscheClubs/pc_canberra/pc_main.nsf/w
 eb/E8FB7591C2F8ECE1C12584CC007AD095
DTSTART;VALUE=DATE:20200613
DTEND;VALUE=DATE:20200615
DTSTAMP:20191211T030830Z
LOCATION:Starting point TBA
END:VEVENT
BEGIN:VEVENT
UID:24AE6179B5EC5EA3C12584CC007B2CED
CATEGORIES:Porsche Club Canberra
SUMMARY:Christmas in July
DESCRIPTION:For July the PCC is doing a traditional Christmas-in-July dinn
 er on the evening of Thursday 9 July - details to be advised.\n\nOrganiser
 s: Billy Moore and Kerrie Cullen\n\n\n\nhttp://www.porsche-club-canberra.o
 rg.au/PorscheClubs/pc_canberra/pc_main.nsf/web/24AE6179B5EC5EA3C12584CC007
 B2CED
DTSTART;VALUE=DATE:20200709
DTSTAMP:20191211T030325Z
LOCATION:TBC
END:VEVENT
BEGIN:VEVENT
UID:082474C1E1CD2758C12584CC007B8DF2
CATEGORIES:Porsche Club Canberra
SUMMARY:August Club Drive - Candelo
DESCRIPTION:What could be better in August than a pleasant drive out to th
 e Candelo General Store?\n\nOrganisers: Warrick Grigg and Kerry Fitzgerald
 \n\n\n\nhttp://www.porsche-club-canberra.org.au/PorscheClubs/pc_canberra/p
 c_main.nsf/web/082474C1E1CD2758C12584CC007B8DF2
DTSTART:20200801T220000Z
DTSTAMP:20191217T230317Z
LOCATION:Start at the Gold Creek Cafe
END:VEVENT
BEGIN:VEVENT
UID:DF72E7230B3118A4C12584D3007EC5EA
CATEGORIES:Porsche Club Canberra
SUMMARY:September Club Drive
DESCRIPTION:September club drive 8am\n\n\n\nhttp://www.porsche-club-canber
 ra.org.au/PorscheClubs/pc_canberra/pc_main.nsf/web/DF72E7230B3118A4C12584D
 3007EC5EA
DTSTART;VALUE=DATE:20200905
DTSTAMP:20191218T021419Z
LOCATION:Fox and Bow, Farrer Shops
END:VEVENT
BEGIN:VEVENT
UID:5B5F090F01C57A0EC12584CD000F1492
CATEGORIES:Porsche Club Canberra
SUMMARY:German Autofest
DESCRIPTION:http://www.porsche-club-canberra.org.au/PorscheClubs/pc_canber
 ra/pc_main.nsf/web/5B5F090F01C57A0EC12584CD000F1492
DTSTART;VALUE=DATE:20200920
DTSTAMP:20191211T030617Z
LOCATION:Details to be confirmed
END:VEVENT
BEGIN:VEVENT
UID:704F9AA95215BE3EC12584D3007ED476
CATEGORIES:Porsche Club Canberra
SUMMARY:October Club Drive
DESCRIPTION:October Club Drive - 8am\n\n\n\nhttp://www.porsche-club-canber
 ra.org.au/PorscheClubs/pc_canberra/pc_main.nsf/web/704F9AA95215BE3EC12584D
 3007ED476
DTSTART;VALUE=DATE:20201004
DTSTAMP:20191217T230519Z
LOCATION:Gold Creek Cafe
END:VEVENT
BEGIN:VEVENT
UID:2891311581EE955CC12584CD000F891B
CATEGORIES:Porsche Club Canberra
SUMMARY:2020 Porsche Club Canberra Rally
DESCRIPTION:The biggest event on the PCC calendar is back again for 2020 -
  the PCC Rally.\n\nAs always, this will be a navigation/'quiz' rally with 
 a mystery overnight destination.  Saturday lunch and dinner included.\n\nN
 ote that the date is provision at this stage, but put a place holder in yo
 ur calendar now - participant numbers will be limited.\n\nMore information
  will be provided closer to the event.\n\n(Note dates are provisional unti
 l confirmed).\n\nOrganisers: Kirsti McQueen and David Brudenall (2019 winn
 ers)\n\n\n\nhttp://www.porsche-club-canberra.org.au/PorscheClubs/pc_canber
 ra/pc_main.nsf/web/2891311581EE955CC12584CD000F891B
DTSTART;VALUE=DATE:20201024
DTEND;VALUE=DATE:20201026
DTSTAMP:20191217T230637Z
LOCATION:TBA
END:VEVENT
BEGIN:VEVENT
UID:CE2DAE40D3651017C12584CD000FD3D3
CATEGORIES:Porsche Club Canberra
SUMMARY:November Club Drive
DESCRIPTION: \n\nOrganisers: Tim Allen and Jenelle Kenner\n\n\n\nhttp://ww
 w.porsche-club-canberra.org.au/PorscheClubs/pc_canberra/pc_main.nsf/web/CE
 2DAE40D3651017C12584CD000FD3D3
DTSTART;VALUE=DATE:20201108
DTSTAMP:20191218T020235Z
LOCATION:TBA
END:VEVENT
BEGIN:VEVENT
UID:D85F81AA90775175C12584CD000FFEA1
CATEGORIES:Porsche Club Canberra
SUMMARY:PCC Christmas lunch and AGM 
DESCRIPTION:**Provisional date** for the Annual AGM and Christmas lunch, o
 pen to all 2020 and 2021 financial members.\n\nVenue to be confirmed.\n\n\
 n\nhttp://www.porsche-club-canberra.org.au/PorscheClubs/pc_canberra/pc_mai
 n.nsf/web/D85F81AA90775175C12584CD000FFEA1
DTSTART;VALUE=DATE:20201205
DTSTAMP:20191211T030745Z
LOCATION:TBA
END:VEVENT
END:VCALENDAR
